BEGIN:VCALENDAR
VERSION:2.0
PRODID:-//Technology Resources - ECPv6.15.20//NONSGML v1.0//EN
CALSCALE:GREGORIAN
METHOD:PUBLISH
X-WR-CALNAME:Technology Resources
X-ORIGINAL-URL:https://blog.citl.mun.ca/technologyresources
X-WR-CALDESC:Events for Technology Resources
REFRESH-INTERVAL;VALUE=DURATION:PT1H
X-Robots-Tag:noindex
X-PUBLISHED-TTL:PT1H
BEGIN:VTIMEZONE
TZID:America/St_Johns
BEGIN:DAYLIGHT
TZOFFSETFROM:-0330
TZOFFSETTO:-0230
TZNAME:NDT
DTSTART:20200308T053000
END:DAYLIGHT
BEGIN:STANDARD
TZOFFSETFROM:-0230
TZOFFSETTO:-0330
TZNAME:NST
DTSTART:20201101T043000
END:STANDARD
BEGIN:DAYLIGHT
TZOFFSETFROM:-0330
TZOFFSETTO:-0230
TZNAME:NDT
DTSTART:20210314T053000
END:DAYLIGHT
BEGIN:STANDARD
TZOFFSETFROM:-0230
TZOFFSETTO:-0330
TZNAME:NST
DTSTART:20211107T043000
END:STANDARD
BEGIN:DAYLIGHT
TZOFFSETFROM:-0330
TZOFFSETTO:-0230
TZNAME:NDT
DTSTART:20220313T053000
END:DAYLIGHT
BEGIN:STANDARD
TZOFFSETFROM:-0230
TZOFFSETTO:-0330
TZNAME:NST
DTSTART:20221106T043000
END:STANDARD
END:VTIMEZONE
BEGIN:VEVENT
DTSTART;TZID=America/St_Johns:20211207T100000
DTEND;TZID=America/St_Johns:20211207T110000
DTSTAMP:20260420T185227
CREATED:20210730T192414Z
LAST-MODIFIED:20210730T192414Z
UID:19881-1638871200-1638874800@blog.citl.mun.ca
SUMMARY:Grades Tool in Brightspace
DESCRIPTION:Using the Brightspace Grades Tool\, including the grade book\, allows you to keep all course grades in one place and gives students the opportunity to keep track of their performance. You can link your Brightspace assessments directly to the grade book\, and at the end of the course have all the grades ready to transfer to Banner. This session will introduce the various features of the grades tool and demonstrate how to link different types of assessments to the grade book. \n\nThis session will be hosted in Webex. Registration is required for this event – please follow the link below to register. \n*REGISTER* \nYou can join the session 10 minutes before the start time. It is recommended that you attend this session using one of the following internet browsers:  Chrome\, Microsoft Edge (Chromium) or Firefox.
URL:https://blog.citl.mun.ca/technologyresources/workshop-consult/grades-tool-in-brightspace-6/
LOCATION:WebEx (Webinar)
END:VEVENT
BEGIN:VEVENT
DTSTART;TZID=America/St_Johns:20211215T100000
DTEND;TZID=America/St_Johns:20211215T120000
DTSTAMP:20260420T185227
CREATED:20210730T192546Z
LAST-MODIFIED:20210730T192546Z
UID:19885-1639562400-1639569600@blog.citl.mun.ca
SUMMARY:Brightspace Basics
DESCRIPTION:Whether you are new to Brightspace or just need a refresher\, the Brightspace Basics session will walk you through the basic steps of preparing your course site for the start of the term. Topics include: \n\nOverview of CITL’s support team\nLogging into Brightspace and accessing your course site\nAdding content to a site\, including the Brightspace Course Setup Kit\nUsing course mail and announcement to contact your students\nSetting up a discussion forum\nCreating assignments and quizzes\nSetting up the grade book to track and return grades to students\nIntroducing online rooms\n\nParticipants are encouraged to bring forward issues or challenges they may have experienced when teaching with Brightspace\, and the facilitator will aim to provide suggestions to address them. \n\nThis session will be hosted in Webex. Registration is required for this event – please follow the link below to register. \n*REGISTER* \nYou can join the session 10 minutes before the start time. It is recommended that you attend this session using one of the following internet browsers:  Chrome\, Microsoft Edge (Chromium) or Firefox.
URL:https://blog.citl.mun.ca/technologyresources/workshop-consult/brightspace-basics-9/
LOCATION:WebEx (Webinar)
END:VEVENT
BEGIN:VEVENT
DTSTART;TZID=America/St_Johns:20211216T100000
DTEND;TZID=America/St_Johns:20211216T110000
DTSTAMP:20260420T185227
CREATED:20210730T192721Z
LAST-MODIFIED:20210730T192721Z
UID:19889-1639648800-1639652400@blog.citl.mun.ca
SUMMARY:Introducing the Brightspace Setup Kit
DESCRIPTION:The Brightspace course setup kit has been designed to provide a starting point to creating a Brightspace course site. The kit includes pre-formatted pages that you can easily download\, edit\, and adapt to your specific course needs. This workshop will walk you through the template pages and demonstrate how to customize the various components of the set-up kit to meet your instructional needs. \n\nThis session will be hosted in Webex. Registration is required for this event – please follow the link below to register. \n*REGISTER* \nYou can join the session 10 minutes before the start time. It is recommended that you attend this session using one of the following internet browsers:  Chrome\, Microsoft Edge (Chromium) or Firefox.
URL:https://blog.citl.mun.ca/technologyresources/workshop-consult/introducing-the-brightspace-setup-kit-2/
LOCATION:WebEx (Webinar)
END:VEVENT
BEGIN:VEVENT
DTSTART;TZID=America/St_Johns:20211220T140000
DTEND;TZID=America/St_Johns:20211220T150000
DTSTAMP:20260420T185227
CREATED:20210730T192918Z
LAST-MODIFIED:20211216T212750Z
UID:19893-1640008800-1640012400@blog.citl.mun.ca
SUMMARY:Brightspace Grades & Grades2Banner
DESCRIPTION:Using the Grades Tool within Brightspace allows you to keep all course grades in one place and gives students the opportunity to keep track of their performance. You can link your Brightspace assessments directly to the grade book\, and at the end of the course have all the grades ready for a transfer to Banner. \nRegistration is required for this event. Please follow the link below to register. \n*REGISTER* \nYou can enter the room 10 minutes before the start of the session. \nIt is recommended that you access the room using either of the following internet browsers:  Chrome\, Microsoft Edge (Chromium) or Firefox.
URL:https://blog.citl.mun.ca/technologyresources/workshop-consult/brightspace-grades-grades2banner-2/
LOCATION:WebEx (Webinar)
END:VEVENT
BEGIN:VEVENT
DTSTART;TZID=America/St_Johns:20211221T100000
DTEND;TZID=America/St_Johns:20211221T110000
DTSTAMP:20260420T185227
CREATED:20210730T193113Z
LAST-MODIFIED:20210730T193113Z
UID:19897-1640080800-1640084400@blog.citl.mun.ca
SUMMARY:Recycle Your Course in Brightspace
DESCRIPTION:You don’t have to start from scratch when preparing your Brightspace course site for a new term. Brightspace has a feature that allows you to copy a complete course (less student data\, of course) or just the components you want to reuse. This session will cover how to copy\, update due dates\, update or hide old content and more. \nParticipants are encouraged to bring forward issues or challenges they have experienced when preparing their Brightspace courses\, and the facilitator will aim to provide suggestions to address them. \n\nThis session will be hosted in Webex. Registration is required for this event – please follow the link below to register. \n*REGISTER* \nYou can join the session 10 minutes before the start time. It is recommended that you attend this session using one of the following internet browsers:  Chrome\, Microsoft Edge (Chromium) or Firefox.
URL:https://blog.citl.mun.ca/technologyresources/workshop-consult/recycle-your-course-in-brightspace-4/
LOCATION:WebEx (Webinar)
END:VEVENT
BEGIN:VEVENT
DTSTART;TZID=America/St_Johns:20211222T100000
DTEND;TZID=America/St_Johns:20211222T120000
DTSTAMP:20260420T185227
CREATED:20211130T175920Z
LAST-MODIFIED:20211130T205028Z
UID:23243-1640167200-1640174400@blog.citl.mun.ca
SUMMARY:Drop-in Clinic: Questions About Grades or Grades2Banner?
DESCRIPTION:Do you have any issues with or questions about transferring your grades from Brightspace to Banner using the Grades2Banner tool? Instead of calling the CITL Support Centre\, you can simply drop in and get the answers you need at any point during this two-hour session. \nNo registration is required for this event. \nClick *HERE* to join the session and chat with CITL staff. The password for this event is DROPIN. \nIt is recommended that you access the room using either of the following internet browsers:  Chrome\, Microsoft Edge (Chromium) or Firefox.
URL:https://blog.citl.mun.ca/technologyresources/workshop-consult/drop-in-clinic-questions-about-grades-or-grades2banner/
END:VEVENT
END:VCALENDAR