BEGIN:VCALENDAR
VERSION:2.0
PRODID:-//Technology Resources - ECPv6.15.20//NONSGML v1.0//EN
CALSCALE:GREGORIAN
METHOD:PUBLISH
X-WR-CALNAME:Technology Resources
X-ORIGINAL-URL:https://blog.citl.mun.ca/technologyresources
X-WR-CALDESC:Events for Technology Resources
REFRESH-INTERVAL;VALUE=DURATION:PT1H
X-Robots-Tag:noindex
X-PUBLISHED-TTL:PT1H
BEGIN:VTIMEZONE
TZID:America/St_Johns
BEGIN:DAYLIGHT
TZOFFSETFROM:-0330
TZOFFSETTO:-0230
TZNAME:NDT
DTSTART:20220313T053000
END:DAYLIGHT
BEGIN:STANDARD
TZOFFSETFROM:-0230
TZOFFSETTO:-0330
TZNAME:NST
DTSTART:20221106T043000
END:STANDARD
BEGIN:DAYLIGHT
TZOFFSETFROM:-0330
TZOFFSETTO:-0230
TZNAME:NDT
DTSTART:20230312T053000
END:DAYLIGHT
BEGIN:STANDARD
TZOFFSETFROM:-0230
TZOFFSETTO:-0330
TZNAME:NST
DTSTART:20231105T043000
END:STANDARD
BEGIN:DAYLIGHT
TZOFFSETFROM:-0330
TZOFFSETTO:-0230
TZNAME:NDT
DTSTART:20240310T053000
END:DAYLIGHT
BEGIN:STANDARD
TZOFFSETFROM:-0230
TZOFFSETTO:-0330
TZNAME:NST
DTSTART:20241103T043000
END:STANDARD
END:VTIMEZONE
BEGIN:VEVENT
DTSTART;TZID=America/St_Johns:20230613T140000
DTEND;TZID=America/St_Johns:20230613T150000
DTSTAMP:20260421T055122
CREATED:20221213T190724Z
LAST-MODIFIED:20230602T114632Z
UID:28789-1686664800-1686668400@blog.citl.mun.ca
SUMMARY:Social Media Use in the Classroom (CITL Instructor Series)
DESCRIPTION:The presenters for this session are Adrienne Peters\, PhD (she/her)\, Assistant Professor\, Undergraduate Director of Criminology\, Department of Sociology; and Laura Squires (M.A.)\, Project Coordinator at fasdNL. \nLimited research suggests that social media is a tool that can positively impact student engagement in the online classroom\, which is especially relevant in the case of the COVID-19 pandemic and learning formats transitioning online. Dr. Adrienne Peters and Laura Squires explore how social media tools could provide a platform and an opportunity for engagement between students and the instructor outside of the traditional\, formal classroom setting. \nIn this session\, Dr. Peters and Ms. Squires will explain how they integrated twitter into their teaching as a course evaluation requirement and share findings and experiences when using the tool to improve interaction\, engagement and connectedness. You can read their full article here. \nThis is an online session and it will be recorded. You can join the session 10 minutes before the start time. It is recommended that you attend this session using one of the following internet browsers:  Chrome\, Microsoft Edge (Chromium) or Firefox. \nRegistration is required for this event. *CLICK HERE TO REGISTER*
URL:https://blog.citl.mun.ca/technologyresources/workshop-consult/social-media-use-in-the-classroom-part-of-citl-instructor-series/
LOCATION:WebEx (Webinar)
CATEGORIES:Instructor Series
END:VEVENT
END:VCALENDAR