BEGIN:VCALENDAR
VERSION:2.0
PRODID:-//Technology Resources - ECPv6.15.20//NONSGML v1.0//EN
CALSCALE:GREGORIAN
METHOD:PUBLISH
X-WR-CALNAME:Technology Resources
X-ORIGINAL-URL:https://blog.citl.mun.ca/technologyresources
X-WR-CALDESC:Events for Technology Resources
REFRESH-INTERVAL;VALUE=DURATION:PT1H
X-Robots-Tag:noindex
X-PUBLISHED-TTL:PT1H
BEGIN:VTIMEZONE
TZID:America/St_Johns
BEGIN:DAYLIGHT
TZOFFSETFROM:-0330
TZOFFSETTO:-0230
TZNAME:NDT
DTSTART:20220313T053000
END:DAYLIGHT
BEGIN:STANDARD
TZOFFSETFROM:-0230
TZOFFSETTO:-0330
TZNAME:NST
DTSTART:20221106T043000
END:STANDARD
BEGIN:DAYLIGHT
TZOFFSETFROM:-0330
TZOFFSETTO:-0230
TZNAME:NDT
DTSTART:20230312T053000
END:DAYLIGHT
BEGIN:STANDARD
TZOFFSETFROM:-0230
TZOFFSETTO:-0330
TZNAME:NST
DTSTART:20231105T043000
END:STANDARD
BEGIN:DAYLIGHT
TZOFFSETFROM:-0330
TZOFFSETTO:-0230
TZNAME:NDT
DTSTART:20240310T053000
END:DAYLIGHT
BEGIN:STANDARD
TZOFFSETFROM:-0230
TZOFFSETTO:-0330
TZNAME:NST
DTSTART:20241103T043000
END:STANDARD
END:VTIMEZONE
BEGIN:VEVENT
DTSTART;TZID=America/St_Johns:20230504T100000
DTEND;TZID=America/St_Johns:20230504T120000
DTSTAMP:20260421T065902
CREATED:20230421T183654Z
LAST-MODIFIED:20230421T183654Z
UID:30277-1683194400-1683201600@blog.citl.mun.ca
SUMMARY:Drop-in Clinic: Questions About Your Course Prep?
DESCRIPTION:Do you have any question about your course preparation? Come to this drop-in session where CITL’s instructional staff will be available to discuss and assist you with any issues related to your course design. Feel free to ask us about: \n\nthe use of Brightspace and other learning tools\nhosting effective synchronous sessions\npreparing and sharing recordings\ncreating effective assessments in Brightspace\ninstructional strategies\nand more…\n\nNo registration is required for this event. Simply drop in and get the answers you need at any point during this two-hour session. \nThis session will be hosted in Webex. CLICK HERE to join the session and chat with CITL staff. The password for this event is DROPIN.
URL:https://blog.citl.mun.ca/technologyresources/workshop-consult/drop-in-clinic-questions-about-your-course-prep-5/
LOCATION:WebEx (Webinar)
END:VEVENT
BEGIN:VEVENT
DTSTART;TZID=America/St_Johns:20230504T130000
DTEND;TZID=America/St_Johns:20230504T140000
DTSTAMP:20260421T065902
CREATED:20230421T184034Z
LAST-MODIFIED:20230421T193428Z
UID:30281-1683205200-1683208800@blog.citl.mun.ca
SUMMARY:Grading Student Work in Brightspace
DESCRIPTION:Using the Grades Tool in Brightspace allows instructors to keep all course grades in one place and gives students the opportunity to keep track of their performance. You can link your Brightspace assessments (assignments\, quizzes\, discussion topics\, and group projects) directly to the grade book\, and at the end of the course have all the grades ready for a transfer to Banner. \nThis session will introduce you to the various features of the Grades tool and demonstrate how to set up the Brightspace grade book and link different types of assessments to it. \nThis session will be hosted in Webex. You can join the session 10 minutes before the start time. It is recommended that you attend this session using one of the following internet browsers: Chrome\, Microsoft Edge or Firefox. \nRegistration is required for this event. *CLICK HERE TO REGISTER*
URL:https://blog.citl.mun.ca/technologyresources/workshop-consult/grading-student-work-in-brightspace/
LOCATION:WebEx (Webinar)
END:VEVENT
END:VCALENDAR