BEGIN:VCALENDAR
VERSION:2.0
PRODID:-//Technology Resources - ECPv6.15.20//NONSGML v1.0//EN
CALSCALE:GREGORIAN
METHOD:PUBLISH
X-WR-CALNAME:Technology Resources
X-ORIGINAL-URL:https://blog.citl.mun.ca/technologyresources
X-WR-CALDESC:Events for Technology Resources
REFRESH-INTERVAL;VALUE=DURATION:PT1H
X-Robots-Tag:noindex
X-PUBLISHED-TTL:PT1H
BEGIN:VTIMEZONE
TZID:America/St_Johns
BEGIN:DAYLIGHT
TZOFFSETFROM:-0330
TZOFFSETTO:-0230
TZNAME:NDT
DTSTART:20200308T053000
END:DAYLIGHT
BEGIN:STANDARD
TZOFFSETFROM:-0230
TZOFFSETTO:-0330
TZNAME:NST
DTSTART:20201101T043000
END:STANDARD
BEGIN:DAYLIGHT
TZOFFSETFROM:-0330
TZOFFSETTO:-0230
TZNAME:NDT
DTSTART:20210314T053000
END:DAYLIGHT
BEGIN:STANDARD
TZOFFSETFROM:-0230
TZOFFSETTO:-0330
TZNAME:NST
DTSTART:20211107T043000
END:STANDARD
BEGIN:DAYLIGHT
TZOFFSETFROM:-0330
TZOFFSETTO:-0230
TZNAME:NDT
DTSTART:20220313T053000
END:DAYLIGHT
BEGIN:STANDARD
TZOFFSETFROM:-0230
TZOFFSETTO:-0330
TZNAME:NST
DTSTART:20221106T043000
END:STANDARD
END:VTIMEZONE
BEGIN:VEVENT
DTSTART;TZID=America/St_Johns:20211221T100000
DTEND;TZID=America/St_Johns:20211221T110000
DTSTAMP:20260421T055241
CREATED:20210730T193113Z
LAST-MODIFIED:20210730T193113Z
UID:19897-1640080800-1640084400@blog.citl.mun.ca
SUMMARY:Recycle Your Course in Brightspace
DESCRIPTION:You don’t have to start from scratch when preparing your Brightspace course site for a new term. Brightspace has a feature that allows you to copy a complete course (less student data\, of course) or just the components you want to reuse. This session will cover how to copy\, update due dates\, update or hide old content and more. \nParticipants are encouraged to bring forward issues or challenges they have experienced when preparing their Brightspace courses\, and the facilitator will aim to provide suggestions to address them. \n\nThis session will be hosted in Webex. Registration is required for this event – please follow the link below to register. \n*REGISTER* \nYou can join the session 10 minutes before the start time. It is recommended that you attend this session using one of the following internet browsers:  Chrome\, Microsoft Edge (Chromium) or Firefox.
URL:https://blog.citl.mun.ca/technologyresources/workshop-consult/recycle-your-course-in-brightspace-4/
LOCATION:WebEx (Webinar)
END:VEVENT
END:VCALENDAR