BEGIN:VCALENDAR
VERSION:2.0
PRODID:-//Technology Resources - ECPv6.15.20//NONSGML v1.0//EN
CALSCALE:GREGORIAN
METHOD:PUBLISH
X-WR-CALNAME:Technology Resources
X-ORIGINAL-URL:https://blog.citl.mun.ca/technologyresources
X-WR-CALDESC:Events for Technology Resources
REFRESH-INTERVAL;VALUE=DURATION:PT1H
X-Robots-Tag:noindex
X-PUBLISHED-TTL:PT1H
BEGIN:VTIMEZONE
TZID:America/St_Johns
BEGIN:DAYLIGHT
TZOFFSETFROM:-0330
TZOFFSETTO:-0230
TZNAME:NDT
DTSTART:20200308T053000
END:DAYLIGHT
BEGIN:STANDARD
TZOFFSETFROM:-0230
TZOFFSETTO:-0330
TZNAME:NST
DTSTART:20201101T043000
END:STANDARD
BEGIN:DAYLIGHT
TZOFFSETFROM:-0330
TZOFFSETTO:-0230
TZNAME:NDT
DTSTART:20210314T053000
END:DAYLIGHT
BEGIN:STANDARD
TZOFFSETFROM:-0230
TZOFFSETTO:-0330
TZNAME:NST
DTSTART:20211107T043000
END:STANDARD
BEGIN:DAYLIGHT
TZOFFSETFROM:-0330
TZOFFSETTO:-0230
TZNAME:NDT
DTSTART:20220313T053000
END:DAYLIGHT
BEGIN:STANDARD
TZOFFSETFROM:-0230
TZOFFSETTO:-0330
TZNAME:NST
DTSTART:20221106T043000
END:STANDARD
END:VTIMEZONE
BEGIN:VEVENT
DTSTART;TZID=America/St_Johns:20211123T100000
DTEND;TZID=America/St_Johns:20211123T110000
DTSTAMP:20260423T073553
CREATED:20210820T171836Z
LAST-MODIFIED:20211119T170427Z
UID:20061-1637661600-1637665200@blog.citl.mun.ca
SUMMARY:Information Literacy & Student Success
DESCRIPTION:THIS SESSION HAS BEEN POSTPONED. If you would like to receive information about the new date\, please register for the event. \nInformation literacy and scholarly communication are a part of students’ learning in their chosen subject or discipline and something that they will gain gradually over the course of their studies (and beyond). This webinar will tie the theory behind information literacy to the day-to-day practice of teaching and course design. During this session\, participants will develop a deeper understanding of the principles of learning-centered teaching and acquire tips and strategies for building information literacy into your course outcomes in order to meet your students’ 21st Century learning needs. \n\nThis session will be hosted in Webex. Registration is required for this event – please follow the link below to register. \n*REGISTER* \nYou can join the session 10 minutes before the start time. It is recommended that you attend this session using one of the following internet browsers:  Chrome\, Microsoft Edge (Chromium) or Firefox.
URL:https://blog.citl.mun.ca/technologyresources/workshop-consult/significant-learning-for-the-21st-century-information-literacy-student-success/
LOCATION:WebEx (Webinar)
END:VEVENT
END:VCALENDAR