BEGIN:VCALENDAR
VERSION:2.0
PRODID:-//Technology Resources - ECPv6.15.20//NONSGML v1.0//EN
CALSCALE:GREGORIAN
METHOD:PUBLISH
X-ORIGINAL-URL:https://blog.citl.mun.ca/technologyresources
X-WR-CALDESC:Events for Technology Resources
REFRESH-INTERVAL;VALUE=DURATION:PT1H
X-Robots-Tag:noindex
X-PUBLISHED-TTL:PT1H
BEGIN:VTIMEZONE
TZID:UTC
BEGIN:STANDARD
TZOFFSETFROM:+0000
TZOFFSETTO:+0000
TZNAME:UTC
DTSTART:20190101T000000
END:STANDARD
END:VTIMEZONE
BEGIN:VEVENT
DTSTART;TZID=UTC:20200811T100000
DTEND;TZID=UTC:20200811T120000
DTSTAMP:20260424T070023
CREATED:20200710T151107Z
LAST-MODIFIED:20200807T212508Z
UID:11421-1597140000-1597147200@blog.citl.mun.ca
SUMMARY:Getting Started in Brightspace for Remote Instruction
DESCRIPTION:Whether you are new to Brightspace or just need a refresher? The Getting Started session is designed to walk you through the basics for preparing your course site for the start of term. An opportunity will be provided to respond to specific questions about remote instruction in Brightspace. \nTopics include: \n\nOverview of CITL’s Support team\nLogging into Brightspace and accessing your course site\nAdding content to a site\, including the Course Set-up Kit for Remote Instruction\nUsing course mail and announcement to contact your students\nSetting up a discussion forum\nCreating an assignment folder for submissions\nSetting up the Gradebook to track and return grades to students\nActivating your site\nIntroducing online rooms\n\nThe session will run for about an hour – with time for Q/A afterwards. \nThis session will be hosted in Online Rooms: https://ysu-na.youseeu.com/sync-activity/invite/935838/b9920af86c10b9e3dea9472c2880fef9?lti-scope=d2l-resource-syncmeeting-list  \nThe room will open 15 minutes before the start of the session \nIt is recommended that you access the room using either of the following internet browsers:  Chrome\, Microsoft Edge (Chromium) or Firefox \nPlease note that this session will be recorded.
URL:https://blog.citl.mun.ca/technologyresources/workshop-consult/getting-started-in-brightspace-for-remote-instruction-7/
END:VEVENT
BEGIN:VEVENT
DTSTART;TZID=UTC:20200811T140000
DTEND;TZID=UTC:20200811T160000
DTSTAMP:20260424T070023
CREATED:20200710T150907Z
LAST-MODIFIED:20200807T212242Z
UID:11417-1597154400-1597161600@blog.citl.mun.ca
SUMMARY:Gradebook Workshop
DESCRIPTION:Using the Gradebook effectively\, allows students the opportunity to keep track of their grades during your course\, with the added benefit of having the info you need in one place to transfer final grades to Banner at the end of the course.  After a short introduction to the features of the Gradebook\, you will be provided the opportunity to create your specific Gradebook with the guidance of CITL staff. \nThe session will run for about an hour – with time for Q/A afterwards. \nThis session will be hosted in Online Rooms:  https://ysu-na.youseeu.com/sync-activity/invite/935848/783275bf1c1f376d5bb601dce0d49011?lti-scope=d2l-resource-syncmeeting-list \nThe room will open 15 minutes before the start of the session. \nIt is recommended that you access the room using either of the following internet browsers:  Chrome\, Microsoft Edge (Chromium) or Firefox \nPlease note that this session will be recorded.
URL:https://blog.citl.mun.ca/technologyresources/workshop-consult/gradebook-workshop-3/
END:VEVENT
END:VCALENDAR