BEGIN:VCALENDAR
VERSION:2.0
PRODID:-//Technology Resources - ECPv6.15.20//NONSGML v1.0//EN
CALSCALE:GREGORIAN
METHOD:PUBLISH
X-WR-CALNAME:Technology Resources
X-ORIGINAL-URL:https://blog.citl.mun.ca/technologyresources
X-WR-CALDESC:Events for Technology Resources
REFRESH-INTERVAL;VALUE=DURATION:PT1H
X-Robots-Tag:noindex
X-PUBLISHED-TTL:PT1H
BEGIN:VTIMEZONE
TZID:UTC
BEGIN:STANDARD
TZOFFSETFROM:+0000
TZOFFSETTO:+0000
TZNAME:UTC
DTSTART:20190101T000000
END:STANDARD
END:VTIMEZONE
BEGIN:VEVENT
DTSTART;TZID=UTC:20200604T100000
DTEND;TZID=UTC:20200604T110000
DTSTAMP:20260423T062202
CREATED:20200520T192823Z
LAST-MODIFIED:20200602T202053Z
UID:10115-1591264800-1591268400@blog.citl.mun.ca
SUMMARY:Connection and Community in Remote Teaching
DESCRIPTION:Relationships are the very basis of teaching and learning\, but without face-to-face connection\, how can we help build community within our courses?  Join the conversation to share your ideas about helping students connect to one another and with you through remote teaching. \nThis session will be hosted in Online Rooms:  https://ysu-na.youseeu.com/sync-activity/invite/753719/547478732d532136dd7cbe79e80a1628?lti-scope=d2l-resource-syncmeeting-list \nThe room will open 15 minutes before the start of the session.  Please note that this session will be recorded. \nIt is recommended that you access the room using either of the following internet browsers:  Chrome\, Microsoft Edge (Chromium) or Firefox
URL:https://blog.citl.mun.ca/technologyresources/workshop-consult/connection-and-community-in-remote-teaching/
END:VEVENT
END:VCALENDAR