BEGIN:VCALENDAR
VERSION:2.0
PRODID:-//Technology Resources - ECPv6.15.20//NONSGML v1.0//EN
CALSCALE:GREGORIAN
METHOD:PUBLISH
X-WR-CALNAME:Technology Resources
X-ORIGINAL-URL:https://blog.citl.mun.ca/technologyresources
X-WR-CALDESC:Events for Technology Resources
REFRESH-INTERVAL;VALUE=DURATION:PT1H
X-Robots-Tag:noindex
X-PUBLISHED-TTL:PT1H
BEGIN:VTIMEZONE
TZID:UTC
BEGIN:STANDARD
TZOFFSETFROM:+0000
TZOFFSETTO:+0000
TZNAME:UTC
DTSTART:20180101T000000
END:STANDARD
END:VTIMEZONE
BEGIN:VEVENT
DTSTART;TZID=UTC:20190827T100000
DTEND;TZID=UTC:20190827T120000
DTSTAMP:20260420T185232
CREATED:20190809T144435Z
LAST-MODIFIED:20190809T144435Z
UID:5621-1566900000-1566907200@blog.citl.mun.ca
SUMMARY:Start-up Drop-in Sessions (no registration needed)
DESCRIPTION:Home\n\n	Workshops\n	\n		CITL Event Calendar\n		Recordings\n		Other PD Opportunities\n		Monday Morning Mentor (Archive)\n	\n\n\n\nCITL offers a variety of support services for faculty.  Attend our drop in sessions for just-in time support.  Feel free to use the technology available in the TLX or to bring your own device.  Here’s a sample of some questions asked during past start-up sessions: \n\nHow do I activate my Brightspace site so students can see the content I have there?\nI am reconsidering the evaluation scheme used my course. Can someone provide guidance with this?\nHow can I better engage your students in my class?\nI am not using a text but will be bringing in other sources of content for my students (i.e. YouTube\, journal articles\, online images\, etc.). How can I do this in a copyright compliant way?\nHow do I connect my own device to the podium in my classroom?
URL:https://blog.citl.mun.ca/technologyresources/workshop-consult/start-up-drop-in-sessions-no-registration-needed-5/
LOCATION:ED 1001/Webex\, ED 1001\, Education Building\, Memorial University\, St.John's\, Canada
END:VEVENT
BEGIN:VEVENT
DTSTART;TZID=UTC:20190827T140000
DTEND;TZID=UTC:20190827T160000
DTSTAMP:20260420T185232
CREATED:20190809T144515Z
LAST-MODIFIED:20190809T144515Z
UID:5625-1566914400-1566921600@blog.citl.mun.ca
SUMMARY:Using Online Rooms
DESCRIPTION:Home\n\n	Workshops\n	\n		CITL Event Calendar\n		Recordings\n		Other PD Opportunities\n		Monday Morning Mentor (Archive)\n	\n\n\n\nOnline rooms is a “web-conferencing” application that is built right into Brightspace. It allows you to host synchronous sessions with your students\, like online office hours\, Q&A sessions prior to an exam\, online presentations and more. The tool also features a recording functionality\, so share the activity with the class afterwards or use it to create video content to share with your students later. This session will provide an overview of how the tool works and how you can set one up in your course site. \nDuration: 2 hours (1 hour session; 1 hour Q&A/drop-in) \nRegistration is recommended for this  this event.
URL:https://blog.citl.mun.ca/technologyresources/workshop-consult/using-online-rooms-3/
LOCATION:ED 1001/Webex\, ED 1001\, Education Building\, Memorial University\, St.John's\, Canada
END:VEVENT
END:VCALENDAR